BEGIN:VCALENDAR
VERSION:2.0
PRODID:-//Tukios.com/
BEGIN:VEVENT
UID:fb7673f2-28bf-42cc-903e-3d117f108baa@www.voiefuneralhome.com
DTSTAMP:20260421T065705Z
DTSTART:20260424T143000Z
DTEND:20260424T154500Z
SUMMARY:Visitation 
DESCRIPTION:
URL:https://www.voiefuneralhome.com/obituaries/dorothy-madson
LOCATION:Our Savior's Lutheran Church of Iola     
GEO:0;0
END:VEVENT
END:VCALENDAR